BEGIN:VCALENDAR
VERSION:2.0
METHOD:PUBLISH
PRODID:-//hacksw/handcal/NONSGML v1.0//EN
BEGIN:VEVENT
TZID:America/New_York
UID:sudbury-zoom-event-1ea592f9c777f7f59a939f88b1703baa@sudbury.ma.us
SEQUENCE:1776699599
DTSTAMP:20260420T153959Z
DTSTART:20051124T003000Z
DURATION:PT120M
SUMMARY:Design Review Board Meeting: Wednesday\, November 23\, 2005
LOCATION:Flynn Building - Silva Meeting Room (2nd Floor)
URL:https://sudbury.ma.us/designreviewboard/meeting/design-review-board-meeting-wednesday-november-23-2005/
DESCRIPTION:For the latest details\, visit:  https://sudbury.ma.us/designreviewboard/meeting/design-review-board-meeting-wednesday-november-23-2005/
END:VEVENT
END:VCALENDAR