BEGIN:VCALENDAR
VERSION:2.0
METHOD:PUBLISH
PRODID:-//hacksw/handcal/NONSGML v1.0//EN
BEGIN:VEVENT
TZID:America/New_York
UID:sudbury-zoom-event-19c40f23ba9e7048a6ac081a5b42070d@sudbury.ma.us
SEQUENCE:1776693894
DTSTAMP:20260420T140454Z
DTSTART:20071213T003000Z
DURATION:PT120M
SUMMARY:Design Review Board Meeting: Wednesday\, December 12\, 2007
LOCATION:Flynn Building - Silva Meeting Room (2nd Floor)
URL:https://sudbury.ma.us/designreviewboard/meeting/design-review-board-meeting-wednesday-december-12-2007/
DESCRIPTION:For the latest details\, visit:  https://sudbury.ma.us/designreviewboard/meeting/design-review-board-meeting-wednesday-december-12-2007/
END:VEVENT
END:VCALENDAR