BEGIN:VCALENDAR
VERSION:2.0
METHOD:PUBLISH
PRODID:-//hacksw/handcal/NONSGML v1.0//EN
BEGIN:VEVENT
TZID:America/New_York
UID:sudbury-zoom-event-c88b7fd7d1d61c50f7bab52f9f6edfa3@sudbury.ma.us
SEQUENCE:1776693893
DTSTAMP:20260420T140453Z
DTSTART:20080723T233000Z
DURATION:PT120M
SUMMARY:Design Review Board Meeting: Wednesday\, July 23\, 2008
LOCATION:Flynn Building - Silva Meeting Room (2nd Floor)
URL:https://sudbury.ma.us/designreviewboard/meeting/design-review-board-meeting-wednesday-july-23-2008/
DESCRIPTION:For the latest details\, visit:  https://sudbury.ma.us/designreviewboard/meeting/design-review-board-meeting-wednesday-july-23-2008/
END:VEVENT
END:VCALENDAR