BEGIN:VCALENDAR
VERSION:2.0
METHOD:PUBLISH
PRODID:-//hacksw/handcal/NONSGML v1.0//EN
BEGIN:VEVENT
TZID:America/New_York
UID:sudbury-zoom-event-5e862adab1ce407d0f16939a5b173d88@sudbury.ma.us
SEQUENCE:1776837709
DTSTAMP:20260422T060149Z
DTSTART:20220118T180000Z
DURATION:PT120M
SUMMARY:Commission on Disability - Capital Projects Subcommittee Meeting: Tuesday\, January 18\, 2022
LOCATION:Virtual Meeting
URL:https://sudbury.ma.us/disability/meeting/commission-on-disability-capital-projects-subcommittee-meeting-tuesday-january-18-2022/
DESCRIPTION:For the latest details\, visit:  https://sudbury.ma.us/disability/meeting/commission-on-disability-capital-projects-subcommittee-meeting-tuesday-january-18-2022/
END:VEVENT
END:VCALENDAR