BEGIN:VCALENDAR
VERSION:2.0
METHOD:PUBLISH
PRODID:-//hacksw/handcal/NONSGML v1.0//EN
BEGIN:VEVENT
TZID:America/New_York
UID:sudbury-zoom-event-39cea3836e15eae9838354dd7356c960@sudbury.ma.us
SEQUENCE:1776973542
DTSTAMP:20260423T194542Z
DTSTART:20250821T001500Z
DURATION:PT120M
SUMMARY:Commission On Disability Meeting: Wednesday\, August 20\, 2025
LOCATION:Virtual Meeting
URL:https://sudbury.ma.us/disability/meeting/commission-on-disability-meeting-wednesday-august-20-2025/
DESCRIPTION:Commission On Disability meeting on August 20\, 2025 8:15:00 PM EDT (-04:00)\n\nTo join the Commission On Disability meeting virtually\, please click on this link:\nhttps://zoom.us/j/86958120920\n\nFor audio only\, call the number below and enter the meeting ID on your telephone keypad.\n\nDial-in number:  978-639-3366 or 470-250-9358\nMeeting ID:  869 5812 0920\n\nFor the latest details\, visit:  https://sudbury.ma.us/disability/meeting/commission-on-disability-meeting-wednesday-august-20-2025/
END:VEVENT
END:VCALENDAR