BEGIN:VCALENDAR
VERSION:2.0
METHOD:PUBLISH
PRODID:-//hacksw/handcal/NONSGML v1.0//EN
BEGIN:VEVENT
TZID:America/New_York
UID:sudbury-zoom-event-3bcc8997df233ab581f30dd65f14698c@sudbury.ma.us
SEQUENCE:1776977802
DTSTAMP:20260423T205642Z
DTSTART:20250917T003000Z
DURATION:PT120M
SUMMARY:Commission On Disability Meeting: Tuesday\, September 16\, 2025
LOCATION:Virtual Meeting
URL:https://sudbury.ma.us/disability/meeting/commission-on-disability-meeting-tuesday-september-16-2025/
DESCRIPTION:Commission On Disability meeting on September 16\, 2025 8:30:00 PM EDT (-04:00)\n\nTo join the Commission On Disability meeting virtually\, please click on this link:\nhttps://zoom.us/j/86958120920\n\nFor audio only\, call the number below and enter the meeting ID on your telephone keypad.\n\nDial-in number:  978-639-3366 or 470-250-9358\nMeeting ID:  869 5812 0920\n\nFor the latest details\, visit:  https://sudbury.ma.us/disability/meeting/commission-on-disability-meeting-tuesday-september-16-2025/
END:VEVENT
END:VCALENDAR