BEGIN:VCALENDAR
VERSION:2.0
METHOD:PUBLISH
PRODID:-//hacksw/handcal/NONSGML v1.0//EN
BEGIN:VEVENT
TZID:America/New_York
UID:sudbury-zoom-event-e79b743519dc083a9d431d0f6cc9724e@sudbury.ma.us
SEQUENCE:1776967720
DTSTAMP:20260423T180840Z
DTSTART:20260428T003000Z
DURATION:PT120M
SUMMARY:Commission On Disability Meeting: Monday\, April 27\, 2026
LOCATION:Virtual Meeting
URL:https://sudbury.ma.us/disability/meeting/commission-on-disability-meeting-monday-april-27-2026/
DESCRIPTION:Commission On Disability meeting on April 27\, 2026 8:30:00 PM EDT (-04:00)\n\nTo join the Commission On Disability meeting virtually\, please click on this link:\nhttps://zoom.us/j/86759421773\n\nFor audio only\, call the number below and enter the meeting ID on your telephone keypad.\n\nDial-in number:  978-639-3366 or 470-250-9358\nMeeting ID:  867 5942 1773\n\nFor the latest details\, visit:  https://sudbury.ma.us/disability/meeting/commission-on-disability-meeting-monday-april-27-2026/
END:VEVENT
END:VCALENDAR