BEGIN:VCALENDAR
VERSION:2.0
METHOD:PUBLISH
PRODID:-//hacksw/handcal/NONSGML v1.0//EN
BEGIN:VEVENT
TZID:America/New_York
UID:sudbury-zoom-event-f999037f83450f3b3fe9cc950eeda27b@sudbury.ma.us
SEQUENCE:1777036992
DTSTAMP:20260424T132312Z
DTSTART:20070806T213000Z
DURATION:PT120M
SUMMARY:Commission on Disability Meeting: Monday\, August 6\, 2007
LOCATION:Fairbank Community Center - Senior Center Van Houten Rm. (1958 to 2023)
URL:https://sudbury.ma.us/disability/meeting/commission-on-disability-meeting-monday-august-6-2007/
DESCRIPTION:For the latest details\, visit:  https://sudbury.ma.us/disability/meeting/commission-on-disability-meeting-monday-august-6-2007/
END:VEVENT
END:VCALENDAR