BEGIN:VCALENDAR
VERSION:2.0
METHOD:PUBLISH
PRODID:-//hacksw/handcal/NONSGML v1.0//EN
BEGIN:VEVENT
TZID:America/New_York
UID:sudbury-zoom-event-c6615cc8b1a4d8bba5d971169ea843fd@sudbury.ma.us
SEQUENCE:1776766577
DTSTAMP:20260421T101617Z
DTSTART:20120426T230000Z
DURATION:PT120M
SUMMARY:Commission on Disability Meeting: Thursday\, April 26\, 2012
LOCATION:Fairbank Community Center - Senior Center Pines Rm. (1958 to 2023)
URL:https://sudbury.ma.us/disability/meeting/commission-on-disability-meeting-thursday-april-26-2012/
DESCRIPTION:For the latest details\, visit:  https://sudbury.ma.us/disability/meeting/commission-on-disability-meeting-thursday-april-26-2012/
END:VEVENT
END:VCALENDAR