BEGIN:VCALENDAR
VERSION:2.0
METHOD:PUBLISH
PRODID:-//hacksw/handcal/NONSGML v1.0//EN
BEGIN:VEVENT
TZID:America/New_York
UID:sudbury-zoom-event-24b26277067364509117452d27ab8c62@sudbury.ma.us
SEQUENCE:1776693821
DTSTAMP:20260420T140341Z
DTSTART:20201110T000000Z
DURATION:PT120M
SUMMARY:Finance Committee Meeting: Monday\, November 9\, 2020
LOCATION:Virtual Meeting
URL:https://sudbury.ma.us/financecommittee/meeting/finance-committee-meeting-monday-november-9-2020/
DESCRIPTION:For the latest details\, visit:  https://sudbury.ma.us/financecommittee/meeting/finance-committee-meeting-monday-november-9-2020/
END:VEVENT
END:VCALENDAR