BEGIN:VCALENDAR
VERSION:2.0
METHOD:PUBLISH
PRODID:-//hacksw/handcal/NONSGML v1.0//EN
BEGIN:VEVENT
TZID:America/New_York
UID:sudbury-zoom-event-21bee5a80b00c3a71dbd4ab46d5a7128@sudbury.ma.us
SEQUENCE:1776693821
DTSTAMP:20260420T140341Z
DTSTART:20210126T000000Z
DURATION:PT120M
SUMMARY:Finance Committee Meeting: Monday\, January 25\, 2021
LOCATION:Virtual Meeting
URL:https://sudbury.ma.us/financecommittee/meeting/finance-committee-meeting-monday-january-25-2021/
DESCRIPTION:For the latest details\, visit:  https://sudbury.ma.us/financecommittee/meeting/finance-committee-meeting-monday-january-25-2021/
END:VEVENT
END:VCALENDAR