BEGIN:VCALENDAR
VERSION:2.0
METHOD:PUBLISH
PRODID:-//hacksw/handcal/NONSGML v1.0//EN
BEGIN:VEVENT
TZID:America/New_York
UID:sudbury-zoom-event-076eaa5c652396ca6dcdb45ec620207a@sudbury.ma.us
SEQUENCE:1776693822
DTSTAMP:20260420T140342Z
DTSTART:20080201T003000Z
DURATION:PT120M
SUMMARY:Finance Committee Meeting: Thursday\, January 31\, 2008
LOCATION:Flynn Building - Silva Meeting Room (2nd Floor)
URL:https://sudbury.ma.us/financecommittee/meeting/finance-committee-meeting-thursday-january-31-2008/
DESCRIPTION:For the latest details\, visit:  https://sudbury.ma.us/financecommittee/meeting/finance-committee-meeting-thursday-january-31-2008/
END:VEVENT
END:VCALENDAR