BEGIN:VCALENDAR
VERSION:2.0
METHOD:PUBLISH
PRODID:-//hacksw/handcal/NONSGML v1.0//EN
BEGIN:VEVENT
TZID:America/New_York
UID:sudbury-zoom-event-2a6c66cee27762a950cb544bc3a2cfeb@sudbury.ma.us
SEQUENCE:1776698386
DTSTAMP:20260420T151946Z
DTSTART:20120919T233000Z
DURATION:PT120M
SUMMARY:Finance Committee Meeting: Wednesday\, September 19\, 2012
LOCATION:Flynn Building - Silva Meeting Room (2nd Floor)
URL:https://sudbury.ma.us/financecommittee/meeting/finance-committee-meeting-wednesday-september-19-2012/
DESCRIPTION:For the latest details\, visit:  https://sudbury.ma.us/financecommittee/meeting/finance-committee-meeting-wednesday-september-19-2012/
END:VEVENT
END:VCALENDAR