BEGIN:VCALENDAR
VERSION:2.0
METHOD:PUBLISH
PRODID:-//hacksw/handcal/NONSGML v1.0//EN
BEGIN:VEVENT
TZID:America/New_York
UID:sudbury-zoom-event-0199ff1d41361e4bccaf9e637482b720@sudbury.ma.us
SEQUENCE:1776821255
DTSTAMP:20260422T012735Z
DTSTART:20221008T140000Z
DURATION:PT180M
SUMMARY:Sudbury Fire Department Open House - Saturday\, October 8th
LOCATION:Fire Station (Headquarters)
URL:https://sudbury.ma.us/fire/2022/10/04/sudbury-fire-department-open-house-saturday-october-8th/
DESCRIPTION:For the latest details\, visit:  https://sudbury.ma.us/fire/2022/10/04/sudbury-fire-department-open-house-saturday-october-8th/
END:VEVENT
END:VCALENDAR