BEGIN:VCALENDAR
VERSION:2.0
METHOD:PUBLISH
PRODID:-//hacksw/handcal/NONSGML v1.0//EN
BEGIN:VEVENT
TZID:America/New_York
UID:sudbury-zoom-event-e6909cad6c09392094675e97459d9d4c@sudbury.ma.us
SEQUENCE:1776810006
DTSTAMP:20260421T222006Z
DTSTART:20231014T160000Z
DURATION:PT120M
SUMMARY:JOIN US - Sudbury Fire Open House - Saturday\, October 14th
LOCATION:Fire Station (Headquarters)
URL:https://sudbury.ma.us/fire/2023/10/13/sudbury-fire-department-open-house-saturday-october-8th-2-2-2/
DESCRIPTION:For the latest details\, visit:  https://sudbury.ma.us/fire/2023/10/13/sudbury-fire-department-open-house-saturday-october-8th-2-2-2/
END:VEVENT
END:VCALENDAR