BEGIN:VCALENDAR
VERSION:2.0
METHOD:PUBLISH
PRODID:-//hacksw/handcal/NONSGML v1.0//EN
BEGIN:VEVENT
TZID:America/New_York
UID:sudbury-zoom-event-79c8daf16615edcd8f1277c2171459a9@sudbury.ma.us
SEQUENCE:1776816132
DTSTAMP:20260422T000212Z
DTSTART:20251005T150000Z
DURATION:PT180M
SUMMARY:Sudbury Fire Open House: Sunday\, October 5th
LOCATION:Fire Station (Headquarters)
URL:https://sudbury.ma.us/fire/2025/09/29/sudbury-fire-department-open-house-sunday-october-5/
DESCRIPTION:For the latest details\, visit:  https://sudbury.ma.us/fire/2025/09/29/sudbury-fire-department-open-house-sunday-october-5/
END:VEVENT
END:VCALENDAR