BEGIN:VCALENDAR
VERSION:2.0
METHOD:PUBLISH
PRODID:-//hacksw/handcal/NONSGML v1.0//EN
BEGIN:VEVENT
TZID:America/New_York
UID:sudbury-zoom-event-02cba01c42aee706f2b3dd51d67cbcb7@sudbury.ma.us
SEQUENCE:1776843501
DTSTAMP:20260422T073821Z
DTSTART:20161015T150000Z
DURATION:PT180M
SUMMARY:Sudbury Public Safety Day - Saturday\, October 15th
LOCATION:Fire Station (Headquarters)
URL:https://sudbury.ma.us/fire/2016/10/06/sudbury-public-safety-day-saturday-october-15th-2/
DESCRIPTION:For the latest details\, visit:  https://sudbury.ma.us/fire/2016/10/06/sudbury-public-safety-day-saturday-october-15th-2/
END:VEVENT
END:VCALENDAR