BEGIN:VCALENDAR
VERSION:2.0
METHOD:PUBLISH
PRODID:-//hacksw/handcal/NONSGML v1.0//EN
BEGIN:VEVENT
TZID:America/New_York
UID:sudbury-zoom-event-acdd44d9b70dd10982034ce745de724a@sudbury.ma.us
SEQUENCE:1776830297
DTSTAMP:20260422T035817Z
DTSTART:20200129T233000Z
DURATION:PT120M
SUMMARY:Hazard Mitigation Plan - Public Workshop Jan 29\, 2020
LOCATION:Town Hall
URL:https://sudbury.ma.us/fire/2020/01/28/hazard-mitigation-plan-public-workshop/
DESCRIPTION:For the latest details\, visit:  https://sudbury.ma.us/fire/2020/01/28/hazard-mitigation-plan-public-workshop/
END:VEVENT
END:VCALENDAR