BEGIN:VCALENDAR
VERSION:2.0
METHOD:PUBLISH
PRODID:-//hacksw/handcal/NONSGML v1.0//EN
BEGIN:VEVENT
TZID:America/New_York
UID:sudbury-zoom-event-1c866cbb2df9ad14941c2f7d1ee0b027@sudbury.ma.us
SEQUENCE:1776761359
DTSTAMP:20260421T084919Z
DTSTART:20240716T223000Z
DURATION:PT180M
SUMMARY:Historical Commission Meeting: Tuesday\, July 16\, 2024
LOCATION:Virtual Meeting
URL:https://sudbury.ma.us/historicalcommission/meeting/historical-commission-meeting-tuesday-july-16-2024/
DESCRIPTION:Historical Commission meeting on July 16\, 2024 6:30:00 PM EDT (-04:00)\n\nTo join the Historical Commission meeting virtually\, please click on this link:\nhttps://zoom.us/j/88038365381\n\nFor audio only\, call the number below and enter the meeting ID on your telephone keypad.\n\nDial-in number:  978-639-3366 or 470-250-9358\nMeeting ID:  880 3836 5381\n\nFor the latest details\, visit:  https://sudbury.ma.us/historicalcommission/meeting/historical-commission-meeting-tuesday-july-16-2024/
END:VEVENT
END:VCALENDAR