BEGIN:VCALENDAR
VERSION:2.0
METHOD:PUBLISH
PRODID:-//hacksw/handcal/NONSGML v1.0//EN
BEGIN:VEVENT
TZID:America/New_York
UID:sudbury-zoom-event-3b8f1d5133792248e8efcf6dc6ad3e1d@sudbury.ma.us
SEQUENCE:1777128774
DTSTAMP:20260425T145254Z
DTSTART:20160521T140000Z
DURATION:PT300M
SUMMARY:Railway Section House - Open to Visitors\, May 21st
LOCATION:
URL:https://sudbury.ma.us/historicalcommission/2016/04/20/railway-section-house-open-to-visitors-may-21st/
DESCRIPTION:For the latest details\, visit:  https://sudbury.ma.us/historicalcommission/2016/04/20/railway-section-house-open-to-visitors-may-21st/
END:VEVENT
END:VCALENDAR