BEGIN:VCALENDAR
VERSION:2.0
METHOD:PUBLISH
PRODID:-//hacksw/handcal/NONSGML v1.0//EN
BEGIN:VEVENT
TZID:America/New_York
UID:sudbury-zoom-event-6188a7f6e78ea1bc11bceed21a8f452d@sudbury.ma.us
SEQUENCE:1777123109
DTSTAMP:20260425T131829Z
DTSTART:20160924T140000Z
DURATION:PT360M
SUMMARY:Minuteman Fair at the Wayside Inn
LOCATION:
URL:https://sudbury.ma.us/historicalcommission/2016/08/08/minuteman-fair-at-the-wayside-inn/
DESCRIPTION:For the latest details\, visit:  https://sudbury.ma.us/historicalcommission/2016/08/08/minuteman-fair-at-the-wayside-inn/
END:VEVENT
END:VCALENDAR