BEGIN:VCALENDAR
VERSION:2.0
METHOD:PUBLISH
PRODID:-//hacksw/handcal/NONSGML v1.0//EN
BEGIN:VEVENT
TZID:America/New_York
UID:sudbury-zoom-event-471f22adbde77d08e171d8f1c48ddbda@sudbury.ma.us
SEQUENCE:1777123141
DTSTAMP:20260425T131901Z
DTSTART:20160521T140000Z
DURATION:PT300M
SUMMARY:2nd Annual Home and Hearth Tour
LOCATION:
URL:https://sudbury.ma.us/historicalcommission/2016/05/20/2nd-annual-home-and-hearth-tour/
DESCRIPTION:For the latest details\, visit:  https://sudbury.ma.us/historicalcommission/2016/05/20/2nd-annual-home-and-hearth-tour/
END:VEVENT
END:VCALENDAR