BEGIN:VCALENDAR
VERSION:2.0
METHOD:PUBLISH
PRODID:-//hacksw/handcal/NONSGML v1.0//EN
BEGIN:VEVENT
TZID:America/New_York
UID:sudbury-zoom-event-56a2f5f7da93a9a69687002e4a32463d@sudbury.ma.us
SEQUENCE:1776776431
DTSTAMP:20260421T130031Z
DTSTART:20200904T130000Z
DURATION:PT90M
SUMMARY:Land Acquisition Review Committee Meeting: Friday\, September 4\, 2020
LOCATION:Virtual Meeting
URL:https://sudbury.ma.us/larc/meeting/land-acquisition-review-committee-meeting-friday-september-4-2020/
DESCRIPTION:For the latest details\, visit:  https://sudbury.ma.us/larc/meeting/land-acquisition-review-committee-meeting-friday-september-4-2020/
END:VEVENT
END:VCALENDAR