BEGIN:VCALENDAR
VERSION:2.0
METHOD:PUBLISH
PRODID:-//hacksw/handcal/NONSGML v1.0//EN
BEGIN:VEVENT
TZID:America/New_York
UID:sudbury-zoom-event-81ab41f724391ef12094724fc6d8234f@sudbury.ma.us
SEQUENCE:1776781369
DTSTAMP:20260421T142249Z
DTSTART:20230315T130000Z
DURATION:PT60M
SUMMARY:Land Acquisition Review Committee Meeting: Wednesday\, March 15\, 2023
LOCATION:Virtual Meeting
URL:https://sudbury.ma.us/larc/meeting/land-acquisition-review-committee-meeting-wednesday-march-15-2023/
DESCRIPTION:Land Acquisition Review Committee meeting on March 15\, 2023 9:00:00 AM EDT (-04:00)\n\nTo join the Land Acquisition Review Committee meeting virtually\, please click on this link:\nhttps://zoom.us/j/82803506813\n\nFor audio only\, call the number below and enter the meeting ID on your telephone keypad.\n\nDial-in number:  978-639-3366 or 470-250-9358\nMeeting ID:  828 0350 6813\n\nFor the latest details\, visit:  https://sudbury.ma.us/larc/meeting/land-acquisition-review-committee-meeting-wednesday-march-15-2023/
END:VEVENT
END:VCALENDAR