BEGIN:VCALENDAR
VERSION:2.0
METHOD:PUBLISH
PRODID:-//hacksw/handcal/NONSGML v1.0//EN
BEGIN:VEVENT
TZID:America/New_York
UID:sudbury-zoom-event-c46ddb7acf25fcb1abcbe7df4f575b79@sudbury.ma.us
SEQUENCE:1776781332
DTSTAMP:20260421T142212Z
DTSTART:20151222T140000Z
DURATION:PT120M
SUMMARY:Land Acquisition Review Committee Meeting: Tuesday\, December 22\, 2015
LOCATION:Flynn Building - Silva Meeting Room (2nd Floor)
URL:https://sudbury.ma.us/larc/meeting/land-acquisition-review-committee-meeting-tuesday-december-22-2015/
DESCRIPTION:For the latest details\, visit:  https://sudbury.ma.us/larc/meeting/land-acquisition-review-committee-meeting-tuesday-december-22-2015/
END:VEVENT
END:VCALENDAR