BEGIN:VCALENDAR
VERSION:2.0
METHOD:PUBLISH
PRODID:-//hacksw/handcal/NONSGML v1.0//EN
BEGIN:VEVENT
TZID:America/New_York
UID:sudbury-zoom-event-8d50bea89d5fb8d70fe32b1c1eacef3e@sudbury.ma.us
SEQUENCE:1776781332
DTSTAMP:20260421T142212Z
DTSTART:20130718T123000Z
DURATION:PT120M
SUMMARY:Land Acquisition Review Committee Meeting: Thursday\, July 18\, 2013
LOCATION:Flynn Building - Silva Meeting Room (2nd Floor)
URL:https://sudbury.ma.us/larc/meeting/land-acquisition-review-committee-meeting-thursday-july-18-2013/
DESCRIPTION:For the latest details\, visit:  https://sudbury.ma.us/larc/meeting/land-acquisition-review-committee-meeting-thursday-july-18-2013/
END:VEVENT
END:VCALENDAR