BEGIN:VCALENDAR
VERSION:2.0
METHOD:PUBLISH
PRODID:-//hacksw/handcal/NONSGML v1.0//EN
BEGIN:VEVENT
TZID:America/New_York
UID:sudbury-zoom-event-75746abe9b5265a4fb36083b2105d09e@sudbury.ma.us
SEQUENCE:1776781332
DTSTAMP:20260421T142212Z
DTSTART:20180814T123000Z
DURATION:PT120M
SUMMARY:Land Acquisition Review Committee Meeting: Tuesday\, August 14\, 2018
LOCATION:Flynn Building - Thompson Meeting Room (2nd Floor)
URL:https://sudbury.ma.us/larc/meeting/land-acquisition-review-committee-meeting-tuesday-august-14-2018/
DESCRIPTION:For the latest details\, visit:  https://sudbury.ma.us/larc/meeting/land-acquisition-review-committee-meeting-tuesday-august-14-2018/
END:VEVENT
END:VCALENDAR