BEGIN:VCALENDAR
VERSION:2.0
METHOD:PUBLISH
PRODID:-//hacksw/handcal/NONSGML v1.0//EN
BEGIN:VEVENT
TZID:America/New_York
UID:sudbury-zoom-event-38abfa9e023939602782cd450a5fefbb@sudbury.ma.us
SEQUENCE:1776697297
DTSTAMP:20260420T150137Z
DTSTART:20230228T220000Z
DURATION:PT120M
SUMMARY:Lincoln-Sudbury Regional High School Committee Meeting: Tuesday\, February 28\, 2023
LOCATION:Virtual Meeting
URL:https://sudbury.ma.us/lsschoolcomm/meeting/lincoln-sudbury-regional-high-school-committee-meeting-tuesday-february-28-2023/
DESCRIPTION:For the latest details\, visit:  https://sudbury.ma.us/lsschoolcomm/meeting/lincoln-sudbury-regional-high-school-committee-meeting-tuesday-february-28-2023/
END:VEVENT
END:VCALENDAR