BEGIN:VCALENDAR
VERSION:2.0
METHOD:PUBLISH
PRODID:-//hacksw/handcal/NONSGML v1.0//EN
BEGIN:VEVENT
TZID:America/New_York
UID:sudbury-zoom-event-1982ffe3c3cf0ca0cf65aea35d038274@sudbury.ma.us
SEQUENCE:1776697297
DTSTAMP:20260420T150137Z
DTSTART:20180412T233000Z
DURATION:PT120M
SUMMARY:Lincoln-Sudbury Regional High School Committee Meeting: Thursday\, April 12\, 2018
LOCATION:Lincoln-Sudbury Regional High School - Conference Room B
URL:https://sudbury.ma.us/lsschoolcomm/meeting/lincoln-sudbury-regional-high-school-committee-meeting-thursday-april-12-2018/
DESCRIPTION:For the latest details\, visit:  https://sudbury.ma.us/lsschoolcomm/meeting/lincoln-sudbury-regional-high-school-committee-meeting-thursday-april-12-2018/
END:VEVENT
END:VCALENDAR