BEGIN:VCALENDAR
VERSION:2.0
METHOD:PUBLISH
PRODID:-//hacksw/handcal/NONSGML v1.0//EN
BEGIN:VEVENT
TZID:America/New_York
UID:sudbury-zoom-event-3b28f84537c84d85f56d815400210bb3@sudbury.ma.us
SEQUENCE:1776692905
DTSTAMP:20260420T134825Z
DTSTART:20150505T223000Z
DURATION:PT60M
SUMMARY:Lincoln-Sudbury Regional High School Committee Meeting: Tuesday\, May 5\, 2015
LOCATION:Lincoln-Sudbury Regional High School - Conference Room
URL:https://sudbury.ma.us/lsschoolcomm/meeting/lincoln-sudbury-regional-high-school-committee-meeting-tuesday-may-5-2015/
DESCRIPTION:For the latest details\, visit:  https://sudbury.ma.us/lsschoolcomm/meeting/lincoln-sudbury-regional-high-school-committee-meeting-tuesday-may-5-2015/
END:VEVENT
END:VCALENDAR