BEGIN:VCALENDAR
VERSION:2.0
METHOD:PUBLISH
PRODID:-//hacksw/handcal/NONSGML v1.0//EN
BEGIN:VEVENT
TZID:America/New_York
UID:sudbury-zoom-event-163179f79d7b73b6b2058034be23d9d1@sudbury.ma.us
SEQUENCE:1776692905
DTSTAMP:20260420T134825Z
DTSTART:20230502T220000Z
DURATION:PT120M
SUMMARY:LSRHS School Committee - Superintendent Search Subcommittee Meeting: Tuesday\, May 2\, 2023
LOCATION:Virtual Meeting
URL:https://sudbury.ma.us/lsschoolcomm/meeting/lsrhs-school-committee-superintendent-search-subcommittee-meeting-tuesday-may-2-2023/
DESCRIPTION:For the latest details\, visit:  https://sudbury.ma.us/lsschoolcomm/meeting/lsrhs-school-committee-superintendent-search-subcommittee-meeting-tuesday-may-2-2023/
END:VEVENT
END:VCALENDAR