BEGIN:VCALENDAR
VERSION:2.0
METHOD:PUBLISH
PRODID:-//hacksw/handcal/NONSGML v1.0//EN
BEGIN:VEVENT
TZID:America/New_York
UID:sudbury-zoom-event-4ab20a0f0b5e9ec0d5d314999edd14cf@sudbury.ma.us
SEQUENCE:1776692904
DTSTAMP:20260420T134824Z
DTSTART:20181211T003000Z
DURATION:PT120M
SUMMARY:Lincoln-Sudbury Regional High School Committee Meeting: Monday\, December 10\, 2018
LOCATION:Lincoln-Sudbury Regional High School - Conference Room B
URL:https://sudbury.ma.us/lsschoolcomm/meeting/lincoln-sudbury-regional-high-school-committee-meeting-monday-december-10-2018/
DESCRIPTION:For the latest details\, visit:  https://sudbury.ma.us/lsschoolcomm/meeting/lincoln-sudbury-regional-high-school-committee-meeting-monday-december-10-2018/
END:VEVENT
END:VCALENDAR