BEGIN:VCALENDAR
VERSION:2.0
METHOD:PUBLISH
PRODID:-//hacksw/handcal/NONSGML v1.0//EN
BEGIN:VEVENT
TZID:America/New_York
UID:sudbury-zoom-event-0afde599209f126e1eae1d9f7f6cd638@sudbury.ma.us
SEQUENCE:1776692905
DTSTAMP:20260420T134825Z
DTSTART:20230929T123000Z
DURATION:PT120M
SUMMARY:LSRHS School Committee - Superintendent-Principal Evaluation Subcommittee Meeting: Friday\, September 29\, 2023
LOCATION:Virtual Meeting
URL:https://sudbury.ma.us/lsschoolcomm/meeting/lsrhs-school-committee-superintendent-principal-evaluation-subcommittee-meeting-friday-september-29-2023/
DESCRIPTION:For the latest details\, visit:  https://sudbury.ma.us/lsschoolcomm/meeting/lsrhs-school-committee-superintendent-principal-evaluation-subcommittee-meeting-friday-september-29-2023/
END:VEVENT
END:VCALENDAR