BEGIN:VCALENDAR
VERSION:2.0
METHOD:PUBLISH
PRODID:-//hacksw/handcal/NONSGML v1.0//EN
BEGIN:VEVENT
TZID:America/New_York
UID:sudbury-zoom-event-1e9c6f8e6d7b10af47fa893704866407@sudbury.ma.us
SEQUENCE:1776846861
DTSTAMP:20260422T083421Z
DTSTART:20240523T111500Z
DURATION:PT60M
SUMMARY:LSRHS School Council Meeting: Thursday\, May 23\, 2024
LOCATION:Lincoln-Sudbury Regional High School - Conference Room B
URL:https://sudbury.ma.us/lsschoolcomm/meeting/lsrhs-school-council-meeting-thursday-may-23-2024/
DESCRIPTION:For the latest details\, visit:  https://sudbury.ma.us/lsschoolcomm/meeting/lsrhs-school-council-meeting-thursday-may-23-2024/
END:VEVENT
END:VCALENDAR