BEGIN:VCALENDAR
VERSION:2.0
METHOD:PUBLISH
PRODID:-//hacksw/handcal/NONSGML v1.0//EN
BEGIN:VEVENT
TZID:America/New_York
UID:sudbury-zoom-event-d1f4df4ec628d3b24befb4d189141f38@sudbury.ma.us
SEQUENCE:1776697298
DTSTAMP:20260420T150138Z
DTSTART:20090908T233000Z
DURATION:PT120M
SUMMARY:Lincoln-Sudbury Regional High School Committee Meeting: Tuesday\, September 8\, 2009
LOCATION:Lincoln-Sudbury Regional High School - Conference Room A
URL:https://sudbury.ma.us/lsschoolcomm/meeting/lincoln-sudbury-regional-high-school-committee-meeting-tuesday-september-8-2009/
DESCRIPTION:For the latest details\, visit:  https://sudbury.ma.us/lsschoolcomm/meeting/lincoln-sudbury-regional-high-school-committee-meeting-tuesday-september-8-2009/
END:VEVENT
END:VCALENDAR