BEGIN:VCALENDAR
VERSION:2.0
METHOD:PUBLISH
PRODID:-//hacksw/handcal/NONSGML v1.0//EN
BEGIN:VEVENT
TZID:America/New_York
UID:sudbury-zoom-event-694e034c9ebbf32059557ba1e64674ae@sudbury.ma.us
SEQUENCE:1776692905
DTSTAMP:20260420T134825Z
DTSTART:20250312T230000Z
DURATION:PT120M
SUMMARY:LSRHS School Committee - Policy Subcommittee Meeting: Wednesday\, March 12\, 2025
LOCATION:Virtual Meeting
URL:https://sudbury.ma.us/lsschoolcomm/meeting/lsrhs-school-committee-policy-subcommittee-meeting-wednesday-march-12-2025/
DESCRIPTION:For the latest details\, visit:  https://sudbury.ma.us/lsschoolcomm/meeting/lsrhs-school-committee-policy-subcommittee-meeting-wednesday-march-12-2025/
END:VEVENT
END:VCALENDAR