BEGIN:VCALENDAR
VERSION:2.0
METHOD:PUBLISH
PRODID:-//hacksw/handcal/NONSGML v1.0//EN
BEGIN:VEVENT
TZID:America/New_York
UID:sudbury-zoom-event-a8bb1dad4809c43d510ed9d5e9c8e54f@sudbury.ma.us
SEQUENCE:1776692829
DTSTAMP:20260420T134709Z
DTSTART:20100427T233000Z
DURATION:PT120M
SUMMARY:Lincoln-Sudbury Regional High School Committee Meeting: Tuesday\, April 27\, 2010
LOCATION:Lincoln-Sudbury Regional High School - Conference Room A
URL:https://sudbury.ma.us/lsschoolcomm/meeting/lincoln-sudbury-regional-high-school-committee-meeting-tuesday-april-27-2010/
DESCRIPTION:For the latest details\, visit:  https://sudbury.ma.us/lsschoolcomm/meeting/lincoln-sudbury-regional-high-school-committee-meeting-tuesday-april-27-2010/
END:VEVENT
END:VCALENDAR