BEGIN:VCALENDAR
VERSION:2.0
METHOD:PUBLISH
PRODID:-//hacksw/handcal/NONSGML v1.0//EN
BEGIN:VEVENT
TZID:America/New_York
UID:sudbury-zoom-event-a32d238eb9860730f41ba349bb6d8138@sudbury.ma.us
SEQUENCE:1776846832
DTSTAMP:20260422T083352Z
DTSTART:20260213T000000Z
DURATION:PT120M
SUMMARY:LSRHS School Committee - Finance Subcommittee Meeting: Thursday\, February 12\, 2026
LOCATION:Virtual Meeting
URL:https://sudbury.ma.us/lsschoolcomm/meeting/lsrhs-school-committee-finance-subcommittee-meeting-thursday-february-12-2026/
DESCRIPTION:For the latest details\, visit:  https://sudbury.ma.us/lsschoolcomm/meeting/lsrhs-school-committee-finance-subcommittee-meeting-thursday-february-12-2026/
END:VEVENT
END:VCALENDAR