BEGIN:VCALENDAR
VERSION:2.0
METHOD:PUBLISH
PRODID:-//hacksw/handcal/NONSGML v1.0//EN
BEGIN:VEVENT
TZID:America/New_York
UID:sudbury-zoom-event-1ae491fd9fb3362c8b0045cb8cf7a8db@sudbury.ma.us
SEQUENCE:1776672423
DTSTAMP:20260420T080703Z
DTSTART:20260213T010000Z
DURATION:PT120M
SUMMARY:LSRHS School Committee - Regional Agreement Review Subcommittee Meeting: Thursday\, February 12\, 2026
LOCATION:Virtual Meeting
URL:https://sudbury.ma.us/lsschoolcomm/meeting/lsrhs-school-committee-regional-agreement-review-subcommittee-meeting-thursday-february-12-2026/
DESCRIPTION:For the latest details\, visit:  https://sudbury.ma.us/lsschoolcomm/meeting/lsrhs-school-committee-regional-agreement-review-subcommittee-meeting-thursday-february-12-2026/
END:VEVENT
END:VCALENDAR