BEGIN:VCALENDAR
VERSION:2.0
METHOD:PUBLISH
PRODID:-//hacksw/handcal/NONSGML v1.0//EN
BEGIN:VEVENT
TZID:America/New_York
UID:sudbury-zoom-event-5a671669c481c0b4ed8746cd20a2f7e3@sudbury.ma.us
SEQUENCE:1776677334
DTSTAMP:20260420T092854Z
DTSTART:20260504T230000Z
DURATION:PT240M
SUMMARY:Lincoln-Sudbury Regional High School Committee Meeting: Monday\, May 4\, 2026
LOCATION:Lincoln-Sudbury Regional High School - Auditorium
URL:https://sudbury.ma.us/lsschoolcomm/meeting/lincoln-sudbury-regional-high-school-committee-meeting-monday-may-4-2026/
DESCRIPTION:For the latest details\, visit:  https://sudbury.ma.us/lsschoolcomm/meeting/lincoln-sudbury-regional-high-school-committee-meeting-monday-may-4-2026/
END:VEVENT
END:VCALENDAR