BEGIN:VCALENDAR
VERSION:2.0
METHOD:PUBLISH
PRODID:-//hacksw/handcal/NONSGML v1.0//EN
BEGIN:VEVENT
TZID:America/New_York
UID:sudbury-zoom-event-9997e1254a4825d149e2cc21f2f3ede0@sudbury.ma.us
SEQUENCE:1776677334
DTSTAMP:20260420T092854Z
DTSTART:20260505T230000Z
DURATION:PT240M
SUMMARY:Lincoln-Sudbury Regional High School Committee Meeting: Tuesday\, May 5\, 2026
LOCATION:Lincoln-Sudbury Regional High School - Auditorium
URL:https://sudbury.ma.us/lsschoolcomm/meeting/lincoln-sudbury-regional-high-school-committee-meeting-tuesday-may-5-2026/
DESCRIPTION:For the latest details\, visit:  https://sudbury.ma.us/lsschoolcomm/meeting/lincoln-sudbury-regional-high-school-committee-meeting-tuesday-may-5-2026/
END:VEVENT
END:VCALENDAR