BEGIN:VCALENDAR
VERSION:2.0
METHOD:PUBLISH
PRODID:-//hacksw/handcal/NONSGML v1.0//EN
BEGIN:VEVENT
TZID:America/New_York
UID:sudbury-zoom-event-19ec5e0bee0e82a6dc720f5b9ae5d244@sudbury.ma.us
SEQUENCE:1776672423
DTSTAMP:20260420T080703Z
DTSTART:20260506T230000Z
DURATION:PT240M
SUMMARY:Lincoln-Sudbury Regional High School Committee Meeting: Wednesday\, May 6\, 2026
LOCATION:Lincoln-Sudbury Regional High School - Auditorium
URL:https://sudbury.ma.us/lsschoolcomm/meeting/lincoln-sudbury-regional-high-school-committee-meeting-wednesday-may-6-2026/
DESCRIPTION:For the latest details\, visit:  https://sudbury.ma.us/lsschoolcomm/meeting/lincoln-sudbury-regional-high-school-committee-meeting-wednesday-may-6-2026/
END:VEVENT
END:VCALENDAR