BEGIN:VCALENDAR
VERSION:2.0
METHOD:PUBLISH
PRODID:-//hacksw/handcal/NONSGML v1.0//EN
BEGIN:VEVENT
TZID:America/New_York
UID:sudbury-zoom-event-684cebceef8f2b2d423a7bc9b59d8b45@sudbury.ma.us
SEQUENCE:1776692832
DTSTAMP:20260420T134712Z
DTSTART:20121212T003000Z
DURATION:PT120M
SUMMARY:Lincoln-Sudbury Regional High School Committee Meeting: Tuesday\, December 11\, 2012
LOCATION:Lincoln-Sudbury Regional High School - Conference Room B
URL:https://sudbury.ma.us/lsschoolcomm/meeting/lincoln-sudbury-regional-high-school-committee-meeting-tuesday-december-11-2012/
DESCRIPTION:For the latest details\, visit:  https://sudbury.ma.us/lsschoolcomm/meeting/lincoln-sudbury-regional-high-school-committee-meeting-tuesday-december-11-2012/
END:VEVENT
END:VCALENDAR