BEGIN:VCALENDAR
VERSION:2.0
METHOD:PUBLISH
PRODID:-//hacksw/handcal/NONSGML v1.0//EN
BEGIN:VEVENT
TZID:America/New_York
UID:sudbury-zoom-event-5c7b680eaff2a2fbd1fd9504368fa96c@sudbury.ma.us
SEQUENCE:1776697298
DTSTAMP:20260420T150138Z
DTSTART:20141216T003000Z
DURATION:PT120M
SUMMARY:Lincoln-Sudbury Regional High School Committee Meeting: Monday\, December 15\, 2014
LOCATION:Goodnow Library - Community Room
URL:https://sudbury.ma.us/lsschoolcomm/meeting/lincoln-sudbury-regional-high-school-committee-meeting-monday-december-15-2014/
DESCRIPTION:For the latest details\, visit:  https://sudbury.ma.us/lsschoolcomm/meeting/lincoln-sudbury-regional-high-school-committee-meeting-monday-december-15-2014/
END:VEVENT
END:VCALENDAR