BEGIN:VCALENDAR
VERSION:2.0
METHOD:PUBLISH
PRODID:-//hacksw/handcal/NONSGML v1.0//EN
BEGIN:VEVENT
TZID:America/New_York
UID:sudbury-zoom-event-673a6b2fe1651b7cc8774dcd0025a524@sudbury.ma.us
SEQUENCE:1776692905
DTSTAMP:20260420T134825Z
DTSTART:20060613T233000Z
DURATION:PT120M
SUMMARY:Lincoln-Sudbury Regional High School Committee Meeting: Tuesday\, June 13\, 2006
LOCATION:Lincoln-Sudbury Regional High School - Conference Room B
URL:https://sudbury.ma.us/lsschoolcomm/meeting/lincoln-sudbury-regional-high-school-committee-meeting-tuesday-june-13-2006/
DESCRIPTION:For the latest details\, visit:  https://sudbury.ma.us/lsschoolcomm/meeting/lincoln-sudbury-regional-high-school-committee-meeting-tuesday-june-13-2006/
END:VEVENT
END:VCALENDAR