BEGIN:VCALENDAR
VERSION:2.0
METHOD:PUBLISH
PRODID:-//hacksw/handcal/NONSGML v1.0//EN
BEGIN:VEVENT
TZID:America/New_York
UID:sudbury-zoom-event-69f34772380e176c1cae06bae9ca96ab@sudbury.ma.us
SEQUENCE:1776697256
DTSTAMP:20260420T150056Z
DTSTART:20060808T220000Z
DURATION:PT120M
SUMMARY:Lincoln-Sudbury Regional High School Committee Meeting: Tuesday\, August 8\, 2006
LOCATION:Lincoln-Sudbury Regional High School - Conference Room A
URL:https://sudbury.ma.us/lsschoolcomm/meeting/lincoln-sudbury-regional-high-school-committee-meeting-tuesday-august-8-2006/
DESCRIPTION:For the latest details\, visit:  https://sudbury.ma.us/lsschoolcomm/meeting/lincoln-sudbury-regional-high-school-committee-meeting-tuesday-august-8-2006/
END:VEVENT
END:VCALENDAR