BEGIN:VCALENDAR
VERSION:2.0
METHOD:PUBLISH
PRODID:-//hacksw/handcal/NONSGML v1.0//EN
BEGIN:VEVENT
TZID:America/New_York
UID:sudbury-zoom-event-472faa1e96ad91b3c96d5642e49bc1e2@sudbury.ma.us
SEQUENCE:1776697598
DTSTAMP:20260420T150638Z
DTSTART:20190215T134500Z
DURATION:PT120M
SUMMARY:Master Plan Steering Committee Meeting: Friday\, February 15\, 2019
LOCATION:Police Station
URL:https://sudbury.ma.us/masterplan/meeting/master-plan-steering-committee-meeting-friday-february-15-2019/
DESCRIPTION:For the latest details\, visit:  https://sudbury.ma.us/masterplan/meeting/master-plan-steering-committee-meeting-friday-february-15-2019/
END:VEVENT
END:VCALENDAR