BEGIN:VCALENDAR
VERSION:2.0
METHOD:PUBLISH
PRODID:-//hacksw/handcal/NONSGML v1.0//EN
BEGIN:VEVENT
TZID:America/New_York
UID:sudbury-zoom-event-8f3dd5721390c440d7379aa47c654e80@sudbury.ma.us
SEQUENCE:1776697604
DTSTAMP:20260420T150644Z
DTSTART:20190315T130000Z
DURATION:PT120M
SUMMARY:Master Plan Steering Committee Meeting: Friday\, March 15\, 2019
LOCATION:Town Hall
URL:https://sudbury.ma.us/masterplan/meeting/master-plan-steering-committee-meeting-friday-march-15-2019/
DESCRIPTION:For the latest details\, visit:  https://sudbury.ma.us/masterplan/meeting/master-plan-steering-committee-meeting-friday-march-15-2019/
END:VEVENT
END:VCALENDAR