BEGIN:VCALENDAR
VERSION:2.0
METHOD:PUBLISH
PRODID:-//hacksw/handcal/NONSGML v1.0//EN
BEGIN:VEVENT
TZID:America/New_York
UID:sudbury-zoom-event-5bf00789ad203d70258c61715091a5a1@sudbury.ma.us
SEQUENCE:1776697645
DTSTAMP:20260420T150725Z
DTSTART:20190621T124500Z
DURATION:PT120M
SUMMARY:Master Plan Steering Committee Meeting: Friday\, June 21\, 2019
LOCATION:Police Station
URL:https://sudbury.ma.us/masterplan/meeting/master-plan-steering-committee-meeting-friday-june-21-2019/
DESCRIPTION:For the latest details\, visit:  https://sudbury.ma.us/masterplan/meeting/master-plan-steering-committee-meeting-friday-june-21-2019/
END:VEVENT
END:VCALENDAR