BEGIN:VCALENDAR
VERSION:2.0
METHOD:PUBLISH
PRODID:-//hacksw/handcal/NONSGML v1.0//EN
BEGIN:VEVENT
TZID:America/New_York
UID:sudbury-zoom-event-3a2ba6474577d65cc38f7fcd46455d5f@sudbury.ma.us
SEQUENCE:1776702528
DTSTAMP:20260420T162848Z
DTSTART:20190719T124500Z
DURATION:PT120M
SUMMARY:Master Plan Steering Committee Meeting: Friday\, July 19\, 2019
LOCATION:Police Station
URL:https://sudbury.ma.us/masterplan/meeting/master-plan-steering-committee-meeting-friday-july-19-2019/
DESCRIPTION:For the latest details\, visit:  https://sudbury.ma.us/masterplan/meeting/master-plan-steering-committee-meeting-friday-july-19-2019/
END:VEVENT
END:VCALENDAR